Package: CONSTANd Version: 1.16.0 Command: /home/biocbuild/R/R/bin/R CMD build --keep-empty-dirs --no-resave-data CONSTANd StartedAt: 2025-10-13 23:50:29 -0000 (Mon, 13 Oct 2025) EndedAt: 2025-10-13 23:50:42 -0000 (Mon, 13 Oct 2025) EllapsedTime: 13.0 seconds RetCode: 0 Status: OK PackageFile: CONSTANd_1.16.0.tar.gz PackageFileSize: 1.731 MiB