Package: CONFESS Version: 1.38.0 Command: /home/biocbuild/bbs-3.22-bioc/R/bin/R CMD INSTALL CONFESS StartedAt: 2025-11-11 15:59:58 -0500 (Tue, 11 Nov 2025) EndedAt: 2025-11-11 16:00:51 -0500 (Tue, 11 Nov 2025) EllapsedTime: 53.1 seconds RetCode: 0 Status: OK