Package: CONFESS Version: 1.38.0 Command: /home/biocbuild/bbs-3.22-bioc/R/bin/R CMD check --install=check:CONFESS.install-out.txt --library=/home/biocbuild/bbs-3.22-bioc/R/site-library --timings CONFESS_1.38.0.tar.gz StartedAt: 2025-11-13 22:27:59 -0500 (Thu, 13 Nov 2025) EndedAt: 2025-11-13 22:36:56 -0500 (Thu, 13 Nov 2025) EllapsedTime: 537.5 seconds RetCode: 0 Status: WARNINGS CheckDir: CONFESS.Rcheck Warnings: 1