Package: CONFESS Version: 1.38.0 Command: /home/biocbuild/bbs-3.22-bioc/R/bin/R CMD build --keep-empty-dirs --no-resave-data --md5 CONFESS StartedAt: 2025-11-11 17:03:16 -0500 (Tue, 11 Nov 2025) EndedAt: 2025-11-11 17:06:03 -0500 (Tue, 11 Nov 2025) EllapsedTime: 167.1 seconds RetCode: 0 Status: OK PackageFile: CONFESS_1.38.0.tar.gz PackageFileSize: 3.592 MiB