Package: CONFESS Version: 1.38.0 Command: /Library/Frameworks/R.framework/Resources/bin/R CMD INSTALL CONFESS StartedAt: 2025-11-03 15:51:34 -0500 (Mon, 03 Nov 2025) EndedAt: 2025-11-03 15:53:08 -0500 (Mon, 03 Nov 2025) EllapsedTime: 93.6 seconds RetCode: 0 Status: OK