Package: CONFESS Version: 1.38.0 Command: rm -rf CONFESS.buildbin-libdir && mkdir CONFESS.buildbin-libdir && /Users/biocbuild/BBS/utils/build-universal.sh CONFESS_1.38.0.tar.gz /Library/Frameworks/R.framework/Resources/bin/R CONFESS.buildbin-libdir StartedAt: 2025-11-04 01:34:07 -0500 (Tue, 04 Nov 2025) EndedAt: 2025-11-04 01:35:49 -0500 (Tue, 04 Nov 2025) EllapsedTime: 102.1 seconds RetCode: 0 Status: OK PackageFile: CONFESS_1.38.0.tgz PackageFileSize: 3.103 MiB