Package: CONFESS Version: 1.36.0 Command: /home/biocbuild/R/R/bin/R CMD INSTALL CONFESS StartedAt: 2025-10-06 21:11:51 -0000 (Mon, 06 Oct 2025) EndedAt: 2025-10-06 21:13:07 -0000 (Mon, 06 Oct 2025) EllapsedTime: 75.1 seconds RetCode: 0 Status: OK