Package: COMPASS Version: 1.48.0 Command: /home/biocbuild/R/R/bin/R CMD INSTALL COMPASS StartedAt: 2025-11-13 21:12:49 -0000 (Thu, 13 Nov 2025) EndedAt: 2025-11-13 21:14:09 -0000 (Thu, 13 Nov 2025) EllapsedTime: 80.4 seconds RetCode: 0 Status: OK