Package: COMPASS Version: 1.48.0 Command: /home/biocbuild/R/R/bin/R CMD build --keep-empty-dirs --no-resave-data COMPASS StartedAt: 2025-11-14 00:48:20 -0000 (Fri, 14 Nov 2025) EndedAt: 2025-11-14 00:53:52 -0000 (Fri, 14 Nov 2025) EllapsedTime: 332.1 seconds RetCode: 0 Status: OK PackageFile: COMPASS_1.48.0.tar.gz PackageFileSize: 1.172 MiB