Package: COMPASS Version: 1.46.0 Command: /Library/Frameworks/R.framework/Resources/bin/R CMD INSTALL COMPASS StartedAt: 2025-10-13 15:15:58 -0400 (Mon, 13 Oct 2025) EndedAt: 2025-10-13 15:17:20 -0400 (Mon, 13 Oct 2025) EllapsedTime: 82.1 seconds RetCode: 0 Status: OK