Package: CODEX Version: 1.42.0 Command: /home/biocbuild/bbs-3.22-bioc/R/bin/R CMD check --install=check:CODEX.install-out.txt --library=/home/biocbuild/bbs-3.22-bioc/R/site-library --timings CODEX_1.42.0.tar.gz StartedAt: 2025-11-11 22:23:59 -0500 (Tue, 11 Nov 2025) EndedAt: 2025-11-11 22:29:32 -0500 (Tue, 11 Nov 2025) EllapsedTime: 333.3 seconds RetCode: 0 Status: OK CheckDir: CODEX.Rcheck Warnings: 0