Package: CODEX Version: 1.42.0 Command: /home/biocbuild/bbs-3.22-bioc/R/bin/R CMD build --keep-empty-dirs --no-resave-data --md5 CODEX StartedAt: 2025-11-11 17:00:41 -0500 (Tue, 11 Nov 2025) EndedAt: 2025-11-11 17:02:25 -0500 (Tue, 11 Nov 2025) EllapsedTime: 104.1 seconds RetCode: 0 Status: OK PackageFile: CODEX_1.42.0.tar.gz PackageFileSize: 916.9 KiB