Package: CODEX Version: 1.40.0 Command: /home/biocbuild/R/R/bin/R CMD INSTALL CODEX StartedAt: 2025-10-02 20:49:11 -0000 (Thu, 02 Oct 2025) EndedAt: 2025-10-02 20:49:53 -0000 (Thu, 02 Oct 2025) EllapsedTime: 42.5 seconds RetCode: 0 Status: OK