Package: CODEX Version: 1.40.0 Command: /Library/Frameworks/R.framework/Resources/bin/R CMD INSTALL CODEX StartedAt: 2025-10-13 17:01:57 -0400 (Mon, 13 Oct 2025) EndedAt: 2025-10-13 17:02:33 -0400 (Mon, 13 Oct 2025) EllapsedTime: 35.7 seconds RetCode: 0 Status: OK