Package: CODEX Version: 1.40.0 Command: /Library/Frameworks/R.framework/Resources/bin/R CMD build --keep-empty-dirs --no-resave-data CODEX StartedAt: 2025-10-13 21:40:23 -0400 (Mon, 13 Oct 2025) EndedAt: 2025-10-13 21:42:22 -0400 (Mon, 13 Oct 2025) EllapsedTime: 119.0 seconds RetCode: 0 Status: OK PackageFile: CODEX_1.40.0.tar.gz PackageFileSize: 913.7 KiB