Package: CODEX Version: 1.42.0 Maintainer: Yuchao Jiang MaintainerEmail: yuchaoj at wharton.upenn.edu git_url: https://git.bioconductor.org/packages/CODEX git_branch: RELEASE_3_22 git_last_commit: 27808f2 git_last_commit_date: 2025-10-29 10:23:27 -0400 (Wed, 29 Oct 2025)