Package: COCOA Version: 2.24.0 Command: /home/biocbuild/bbs-3.22-bioc/R/bin/R CMD INSTALL COCOA StartedAt: 2025-11-11 15:41:36 -0500 (Tue, 11 Nov 2025) EndedAt: 2025-11-11 15:42:20 -0500 (Tue, 11 Nov 2025) EllapsedTime: 44.9 seconds RetCode: 0 Status: OK