Package: COCOA Version: 2.24.0 Command: /home/biocbuild/bbs-3.22-bioc/R/bin/R CMD check --install=check:COCOA.install-out.txt --library=/home/biocbuild/bbs-3.22-bioc/R/site-library --timings COCOA_2.24.0.tar.gz StartedAt: 2025-11-11 22:23:48 -0500 (Tue, 11 Nov 2025) EndedAt: 2025-11-11 22:30:23 -0500 (Tue, 11 Nov 2025) EllapsedTime: 395.4 seconds RetCode: 0 Status: OK CheckDir: COCOA.Rcheck Warnings: 0