Package: COCOA Version: 2.24.0 Command: /home/biocbuild/bbs-3.22-bioc/R/bin/R CMD build --keep-empty-dirs --no-resave-data --md5 COCOA StartedAt: 2025-11-11 17:00:27 -0500 (Tue, 11 Nov 2025) EndedAt: 2025-11-11 17:02:14 -0500 (Tue, 11 Nov 2025) EllapsedTime: 107.1 seconds RetCode: 0 Status: OK PackageFile: COCOA_2.24.0.tar.gz PackageFileSize: 3.796 MiB