Package: COCOA Version: 2.22.0 Command: /home/biocbuild/bbs-3.21-bioc/R/bin/R CMD INSTALL COCOA StartedAt: 2025-10-15 15:36:27 -0400 (Wed, 15 Oct 2025) EndedAt: 2025-10-15 15:37:12 -0400 (Wed, 15 Oct 2025) EllapsedTime: 44.4 seconds RetCode: 0 Status: OK