Package: COCOA Version: 2.22.0 Command: /Library/Frameworks/R.framework/Resources/bin/R CMD INSTALL COCOA StartedAt: 2025-04-21 15:37:17 -0400 (Mon, 21 Apr 2025) EndedAt: 2025-04-21 15:38:15 -0400 (Mon, 21 Apr 2025) EllapsedTime: 57.1 seconds RetCode: 0 Status: OK