Package: COCOA Version: 2.22.0 Command: /home/biocbuild/R/R/bin/R CMD INSTALL COCOA StartedAt: 2025-09-29 20:53:48 -0000 (Mon, 29 Sep 2025) EndedAt: 2025-09-29 20:54:48 -0000 (Mon, 29 Sep 2025) EllapsedTime: 60.3 seconds RetCode: 0 Status: OK