Package: COCOA Version: 2.22.0 Command: /home/biocbuild/R/R/bin/R CMD build --keep-empty-dirs --no-resave-data COCOA StartedAt: 2025-09-29 23:45:09 -0000 (Mon, 29 Sep 2025) EndedAt: 2025-09-29 23:48:04 -0000 (Mon, 29 Sep 2025) EllapsedTime: 175.0 seconds RetCode: 0 Status: OK PackageFile: COCOA_2.22.0.tar.gz PackageFileSize: 3.391 MiB