Package: COCOA Version: 2.22.0 Command: /Library/Frameworks/R.framework/Resources/bin/R CMD INSTALL COCOA StartedAt: 2025-10-13 16:54:29 -0400 (Mon, 13 Oct 2025) EndedAt: 2025-10-13 16:55:23 -0400 (Mon, 13 Oct 2025) EllapsedTime: 54.4 seconds RetCode: 0 Status: OK