Package: COCOA Version: 2.22.0 Command: /Library/Frameworks/R.framework/Resources/bin/R CMD build --keep-empty-dirs --no-resave-data COCOA StartedAt: 2025-10-13 21:38:51 -0400 (Mon, 13 Oct 2025) EndedAt: 2025-10-13 21:41:12 -0400 (Mon, 13 Oct 2025) EllapsedTime: 141.2 seconds RetCode: 0 Status: OK PackageFile: COCOA_2.22.0.tar.gz PackageFileSize: 3.466 MiB