Package: CNVrd2 Version: 1.48.0 Command: /home/biocbuild/R/R/bin/R CMD INSTALL CNVrd2 StartedAt: 2025-11-13 21:52:17 -0000 (Thu, 13 Nov 2025) EndedAt: 2025-11-13 21:52:18 -0000 (Thu, 13 Nov 2025) EllapsedTime: 1.1 seconds RetCode: 1 Status: ERROR