Package: CNVrd2 Version: 1.48.0 Command: /home/biocbuild/bbs-3.22-bioc/R/bin/R CMD INSTALL CNVrd2 StartedAt: 2025-11-11 15:49:55 -0500 (Tue, 11 Nov 2025) EndedAt: 2025-11-11 15:50:35 -0500 (Tue, 11 Nov 2025) EllapsedTime: 40.1 seconds RetCode: 0 Status: OK