Package: CNVrd2 Version: 1.48.0 Command: /home/biocbuild/bbs-3.22-bioc/R/bin/R CMD build --keep-empty-dirs --no-resave-data --md5 CNVrd2 StartedAt: 2025-11-11 16:59:47 -0500 (Tue, 11 Nov 2025) EndedAt: 2025-11-11 17:01:02 -0500 (Tue, 11 Nov 2025) EllapsedTime: 75.0 seconds RetCode: 0 Status: OK PackageFile: CNVrd2_1.48.0.tar.gz PackageFileSize: 2.828 MiB