Package: CNVrd2 Version: 1.46.0 Command: /home/biocbuild/bbs-3.21-bioc/R/bin/R CMD INSTALL CNVrd2 StartedAt: 2025-10-15 15:43:17 -0400 (Wed, 15 Oct 2025) EndedAt: 2025-10-15 15:43:57 -0400 (Wed, 15 Oct 2025) EllapsedTime: 40.1 seconds RetCode: 0 Status: OK