Package: CNVrd2 Version: 1.46.0 Command: /home/biocbuild/bbs-3.21-bioc/R/bin/R CMD build --keep-empty-dirs --no-resave-data CNVrd2 StartedAt: 2025-10-15 16:50:01 -0400 (Wed, 15 Oct 2025) EndedAt: 2025-10-15 16:51:13 -0400 (Wed, 15 Oct 2025) EllapsedTime: 72.0 seconds RetCode: 0 Status: OK PackageFile: CNVrd2_1.46.0.tar.gz PackageFileSize: 2.825 MiB