Package: CNVrd2 Version: 1.46.0 Command: /home/biocbuild/R/R/bin/R CMD build --keep-empty-dirs --no-resave-data CNVrd2 StartedAt: 2025-09-25 23:52:23 -0000 (Thu, 25 Sep 2025) EndedAt: 2025-09-25 23:52:24 -0000 (Thu, 25 Sep 2025) EllapsedTime: 1.0 seconds RetCode: 1 Status: ERROR PackageFile: None PackageFileSize: NA