Package: CNVrd2 Version: 1.46.0 Command: /Library/Frameworks/R.framework/Resources/bin/R CMD build --keep-empty-dirs --no-resave-data CNVrd2 StartedAt: 2025-10-13 21:38:44 -0400 (Mon, 13 Oct 2025) EndedAt: 2025-10-13 21:40:23 -0400 (Mon, 13 Oct 2025) EllapsedTime: 98.4 seconds RetCode: 0 Status: OK PackageFile: CNVrd2_1.46.0.tar.gz PackageFileSize: 2.826 MiB