Package: CNViz Version: 1.18.0 Command: /home/biocbuild/bbs-3.22-bioc/R/bin/R CMD check --install=check:CNViz.install-out.txt --library=/home/biocbuild/bbs-3.22-bioc/R/site-library --timings CNViz_1.18.0.tar.gz StartedAt: 2025-11-20 23:02:35 -0500 (Thu, 20 Nov 2025) EndedAt: 2025-11-20 23:08:04 -0500 (Thu, 20 Nov 2025) EllapsedTime: 328.3 seconds RetCode: 0 Status: OK CheckDir: CNViz.Rcheck Warnings: 0