Package: CNViz Version: 1.18.0 Command: /home/biocbuild/bbs-3.22-bioc/R/bin/R CMD build --keep-empty-dirs --no-resave-data --md5 CNViz StartedAt: 2025-11-11 16:59:42 -0500 (Tue, 11 Nov 2025) EndedAt: 2025-11-11 17:00:43 -0500 (Tue, 11 Nov 2025) EllapsedTime: 61.0 seconds RetCode: 0 Status: OK PackageFile: CNViz_1.18.0.tar.gz PackageFileSize: 116.6 KiB