Package: CNViz Version: 1.16.0 Command: /home/biocbuild/R/R/bin/R CMD build --keep-empty-dirs --no-resave-data CNViz StartedAt: 2025-10-13 23:43:56 -0000 (Mon, 13 Oct 2025) EndedAt: 2025-10-13 23:45:22 -0000 (Mon, 13 Oct 2025) EllapsedTime: 86.0 seconds RetCode: 0 Status: OK PackageFile: CNViz_1.16.0.tar.gz PackageFileSize: 116.2 KiB