Package: CNVRanger Version: 1.26.0 Command: /home/biocbuild/bbs-3.22-bioc/R/bin/R CMD build --keep-empty-dirs --no-resave-data --md5 CNVRanger StartedAt: 2025-11-14 16:58:15 -0500 (Fri, 14 Nov 2025) EndedAt: 2025-11-14 17:01:33 -0500 (Fri, 14 Nov 2025) EllapsedTime: 198.2 seconds RetCode: 0 Status: OK PackageFile: CNVRanger_1.26.0.tar.gz PackageFileSize: 1.967 MiB