Package: CNVPanelizer Version: 1.42.0 Command: /home/biocbuild/bbs-3.22-bioc/R/bin/R CMD INSTALL CNVPanelizer StartedAt: 2025-11-14 15:17:31 -0500 (Fri, 14 Nov 2025) EndedAt: 2025-11-14 15:17:54 -0500 (Fri, 14 Nov 2025) EllapsedTime: 22.8 seconds RetCode: 0 Status: OK