Package: CNVPanelizer Version: 1.42.0 Command: /home/biocbuild/bbs-3.22-bioc/R/bin/R CMD build --keep-empty-dirs --no-resave-data --md5 CNVPanelizer StartedAt: 2025-11-14 16:58:14 -0500 (Fri, 14 Nov 2025) EndedAt: 2025-11-14 16:59:33 -0500 (Fri, 14 Nov 2025) EllapsedTime: 79.1 seconds RetCode: 0 Status: OK PackageFile: CNVPanelizer_1.42.0.tar.gz PackageFileSize: 365 KiB