Package: CNVMetrics Version: 1.14.0 Command: /home/biocbuild/R/R/bin/R CMD INSTALL CNVMetrics StartedAt: 2025-11-13 22:06:05 -0000 (Thu, 13 Nov 2025) EndedAt: 2025-11-13 22:06:19 -0000 (Thu, 13 Nov 2025) EllapsedTime: 13.3 seconds RetCode: 0 Status: OK