Package: CNVMetrics Version: 1.14.0 Command: /home/biocbuild/R/R/bin/R CMD build --keep-empty-dirs --no-resave-data CNVMetrics StartedAt: 2025-11-14 00:45:14 -0000 (Fri, 14 Nov 2025) EndedAt: 2025-11-14 00:46:12 -0000 (Fri, 14 Nov 2025) EllapsedTime: 58.0 seconds RetCode: 0 Status: OK PackageFile: CNVMetrics_1.14.0.tar.gz PackageFileSize: 4.488 MiB