Package: CNVMetrics Version: 1.14.0 Command: /home/biocbuild/bbs-3.22-bioc/R/bin/R CMD INSTALL CNVMetrics StartedAt: 2025-11-11 16:03:49 -0500 (Tue, 11 Nov 2025) EndedAt: 2025-11-11 16:04:00 -0500 (Tue, 11 Nov 2025) EllapsedTime: 10.3 seconds RetCode: 0 Status: OK