Package: CNVMetrics Version: 1.14.0 Command: /Library/Frameworks/R.framework/Resources/bin/R CMD INSTALL CNVMetrics StartedAt: 2025-11-20 17:32:12 -0500 (Thu, 20 Nov 2025) EndedAt: 2025-11-20 17:32:36 -0500 (Thu, 20 Nov 2025) EllapsedTime: 23.9 seconds RetCode: 0 Status: OK