Package: CNVMetrics Version: 1.14.0 Command: /Library/Frameworks/R.framework/Resources/bin/R CMD build --keep-empty-dirs --no-resave-data CNVMetrics StartedAt: 2025-11-20 18:55:58 -0500 (Thu, 20 Nov 2025) EndedAt: 2025-11-20 18:57:36 -0500 (Thu, 20 Nov 2025) EllapsedTime: 97.0 seconds RetCode: 0 Status: OK PackageFile: CNVMetrics_1.14.0.tar.gz PackageFileSize: 4.738 MiB