Package: CNVMetrics Version: 1.14.0 Command: rm -rf CNVMetrics.buildbin-libdir && mkdir CNVMetrics.buildbin-libdir && /Users/biocbuild/BBS/utils/build-universal.sh CNVMetrics_1.14.0.tar.gz /Library/Frameworks/R.framework/Resources/bin/R CNVMetrics.buildbin-libdir StartedAt: 2025-11-21 14:27:47 -0500 (Fri, 21 Nov 2025) EndedAt: 2025-11-21 14:28:14 -0500 (Fri, 21 Nov 2025) EllapsedTime: 27.0 seconds RetCode: 0 Status: OK PackageFile: CNVMetrics_1.14.0.tgz PackageFileSize: 2.748 MiB