Package: CNTools Version: 1.66.0 Command: /home/biocbuild/bbs-3.22-bioc/R/bin/R CMD INSTALL CNTools StartedAt: 2025-11-13 15:29:18 -0500 (Thu, 13 Nov 2025) EndedAt: 2025-11-13 15:29:37 -0500 (Thu, 13 Nov 2025) EllapsedTime: 19.2 seconds RetCode: 0 Status: OK