Package: CNTools Version: 1.66.0 Command: /home/biocbuild/bbs-3.22-bioc/R/bin/R CMD check --install=check:CNTools.install-out.txt --library=/home/biocbuild/bbs-3.22-bioc/R/site-library --timings CNTools_1.66.0.tar.gz StartedAt: 2025-11-14 22:22:40 -0500 (Fri, 14 Nov 2025) EndedAt: 2025-11-14 22:24:46 -0500 (Fri, 14 Nov 2025) EllapsedTime: 126.1 seconds RetCode: 0 Status: OK CheckDir: CNTools.Rcheck Warnings: 0