Package: CNTools Version: 1.66.0 Command: /home/biocbuild/bbs-3.22-bioc/R/bin/R CMD build --keep-empty-dirs --no-resave-data --md5 CNTools StartedAt: 2025-11-13 16:56:54 -0500 (Thu, 13 Nov 2025) EndedAt: 2025-11-13 16:57:20 -0500 (Thu, 13 Nov 2025) EllapsedTime: 26.0 seconds RetCode: 0 Status: OK PackageFile: CNTools_1.66.0.tar.gz PackageFileSize: 960.8 KiB