Package: CNTools Version: 1.64.0 Command: /home/biocbuild/bbs-3.21-bioc/R/bin/R CMD build --keep-empty-dirs --no-resave-data CNTools StartedAt: 2025-10-15 16:49:32 -0400 (Wed, 15 Oct 2025) EndedAt: 2025-10-15 16:49:58 -0400 (Wed, 15 Oct 2025) EllapsedTime: 26.0 seconds RetCode: 0 Status: OK PackageFile: CNTools_1.64.0.tar.gz PackageFileSize: 960 KiB