Package: CNTools Version: 1.66.0 Command: rm -rf CNTools.buildbin-libdir && mkdir CNTools.buildbin-libdir && /Users/biocbuild/BBS/utils/build-universal.sh CNTools_1.66.0.tar.gz /Library/Frameworks/R.framework/Resources/bin/R CNTools.buildbin-libdir StartedAt: 2025-11-04 01:33:35 -0500 (Tue, 04 Nov 2025) EndedAt: 2025-11-04 01:34:04 -0500 (Tue, 04 Nov 2025) EllapsedTime: 28.9 seconds RetCode: 0 Status: OK PackageFile: CNTools_1.66.0.tgz PackageFileSize: 1.189 MiB