Package: CNORode Version: 1.52.0 Command: /home/biocbuild/R/R/bin/R CMD INSTALL CNORode StartedAt: 2025-11-13 21:21:42 -0000 (Thu, 13 Nov 2025) EndedAt: 2025-11-13 21:22:07 -0000 (Thu, 13 Nov 2025) EllapsedTime: 24.8 seconds RetCode: 0 Status: OK